BEGIN:VCALENDAR
VERSION:2.0
PRODID:-//Tukios.com/
BEGIN:VEVENT
UID:78aaad50-ec6f-46d2-b8f8-ea673e73d29f@obits.crabiel.com
DTSTAMP:20260422T181355Z
DTSTART:20260424T160000Z
DTEND:20260424T170000Z
SUMMARY:Funeral Service
DESCRIPTION:
URL:https://obits.crabiel.com/richard-baer
LOCATION:Franklin Memorial Park 1800 NJ-27  North Brunswick Township NJ 
	08902
GEO:40.4614913;-74.5030171
END:VEVENT
END:VCALENDAR