BEGIN:VCALENDAR
VERSION:2.0
PRODID:-//Tukios.com/
BEGIN:VEVENT
UID:1e45b981-9dbd-46b3-a61c-2334dfeb6791@obits.crabiel.com
DTSTAMP:20260422T181233Z
DTSTART:20260424T161500Z
DTEND:20260424T163000Z
SUMMARY:Entombment
DESCRIPTION:
URL:https://obits.crabiel.com/richard-baer
LOCATION: 1800 NJ-27  North Brunswick Township NJ 08902
GEO:40.4614913;-74.5030171
END:VEVENT
END:VCALENDAR