BEGIN:VCALENDAR
VERSION:2.0
PRODID:-//Tukios.com/
BEGIN:VEVENT
UID:14266609-e9e5-49c7-ba57-e561a93bead1@obits.crabiel.com
DTSTAMP:20260422T181355Z
DTSTART:20260424T140000Z
DTEND:20260424T153000Z
SUMMARY:Life  Celebration Visitation
DESCRIPTION:
URL:https://obits.crabiel.com/richard-baer
LOCATION: 170 North Main Street - at Riva Avenue  Milltown NJ 08850
GEO:40.4549699;-74.4428795
END:VEVENT
END:VCALENDAR