BEGIN:VCALENDAR
VERSION:2.0
PRODID:-//Tukios.com/
BEGIN:VEVENT
UID:bb9c0bca-e305-4de8-8a98-0df35f81047e@obits.crabiel.com
DTSTAMP:20260420T025326Z
DTSTART:20260502T160000Z
DTEND:20260502T190000Z
SUMMARY:Memorial Service
DESCRIPTION:
URL:https://obits.crabiel.com/john-lewis
LOCATION: 170 North Main Street - at Riva Avenue  Milltown NJ 08850
GEO:40.4549699;-74.4428795
END:VEVENT
END:VCALENDAR