BEGIN:VCALENDAR
VERSION:2.0
PRODID:-//Tukios.com/
BEGIN:VEVENT
UID:6325796a-834c-4cc3-8dab-d0e9872291c6@obits.crabiel.com
DTSTAMP:20260425T161842Z
DTSTART:20260429T154500Z
DTEND:20260429T164500Z
SUMMARY:Burial
DESCRIPTION:
URL:https://obits.crabiel.com/donika-jovani
LOCATION: 585 Georges Rd  North Brunswick Township NJ 08902
GEO:40.4703002;-74.4510285
END:VEVENT
END:VCALENDAR