BEGIN:VCALENDAR
VERSION:2.0
PRODID:-//Tukios.com/
BEGIN:VEVENT
UID:29be07d1-9794-49a8-8b00-6705b5a94250@obits.crabiel.com
DTSTAMP:20260425T161632Z
DTSTART:20260429T140000Z
DTEND:20260429T150000Z
SUMMARY:Viewing
DESCRIPTION:
URL:https://obits.crabiel.com/donika-jovani
LOCATION: 170 North Main Street - at Riva Avenue  Milltown NJ 08850
GEO:40.4549699;-74.4428795
END:VEVENT
END:VCALENDAR