BEGIN:VCALENDAR
VERSION:2.0
PRODID:-//Tukios.com/
BEGIN:VEVENT
UID:082fb34d-ea39-4647-85bd-468195002882@obits.crabiel.com
DTSTAMP:20260425T161842Z
DTSTART:20260428T210000Z
DTEND:20260428T230000Z
SUMMARY:Visitation
DESCRIPTION:
URL:https://obits.crabiel.com/donika-jovani
LOCATION: 170 North Main Street - at Riva Avenue  Milltown NJ 08850
GEO:40.4549699;-74.4428795
END:VEVENT
END:VCALENDAR